BEGIN:VCALENDAR
VERSION:2.0
PRODID:-//Bethel Memorial Baptist - ECPv6.15.20//NONSGML v1.0//EN
CALSCALE:GREGORIAN
METHOD:PUBLISH
X-ORIGINAL-URL:https://bmbceaston.com
X-WR-CALDESC:Events for Bethel Memorial Baptist
REFRESH-INTERVAL;VALUE=DURATION:PT1H
X-Robots-Tag:noindex
X-PUBLISHED-TTL:PT1H
BEGIN:VTIMEZONE
TZID:America/New_York
BEGIN:DAYLIGHT
TZOFFSETFROM:-0500
TZOFFSETTO:-0400
TZNAME:EDT
DTSTART:20240310T070000
END:DAYLIGHT
BEGIN:STANDARD
TZOFFSETFROM:-0400
TZOFFSETTO:-0500
TZNAME:EST
DTSTART:20241103T060000
END:STANDARD
BEGIN:DAYLIGHT
TZOFFSETFROM:-0500
TZOFFSETTO:-0400
TZNAME:EDT
DTSTART:20250309T070000
END:DAYLIGHT
BEGIN:STANDARD
TZOFFSETFROM:-0400
TZOFFSETTO:-0500
TZNAME:EST
DTSTART:20251102T060000
END:STANDARD
BEGIN:DAYLIGHT
TZOFFSETFROM:-0500
TZOFFSETTO:-0400
TZNAME:EDT
DTSTART:20260308T070000
END:DAYLIGHT
BEGIN:STANDARD
TZOFFSETFROM:-0400
TZOFFSETTO:-0500
TZNAME:EST
DTSTART:20261101T060000
END:STANDARD
END:VTIMEZONE
BEGIN:VEVENT
DTSTART;TZID=America/New_York:20250303T180000
DTEND;TZID=America/New_York:20250303T203000
DTSTAMP:20260424T155958
CREATED:20221108T234309Z
LAST-MODIFIED:20250215T194245Z
UID:20530-1741024800-1741033800@bmbceaston.com
SUMMARY:Ladies Fellowship/Game Night
DESCRIPTION:At DATS Stockertown
URL:https://bmbceaston.com/event/ladies-game-night/
ATTACH;FMTTYPE=image/jpeg:https://bmbceaston.com/wp-content/uploads/2024/03/Ladies-FellowshipGame-night.jpg
END:VEVENT
END:VCALENDAR