BEGIN:VCALENDAR
VERSION:2.0
PRODID:-//Bethel Memorial Baptist - ECPv6.15.20//NONSGML v1.0//EN
CALSCALE:GREGORIAN
METHOD:PUBLISH
X-ORIGINAL-URL:https://bmbceaston.com
X-WR-CALDESC:Events for Bethel Memorial Baptist
REFRESH-INTERVAL;VALUE=DURATION:PT1H
X-Robots-Tag:noindex
X-PUBLISHED-TTL:PT1H
BEGIN:VTIMEZONE
TZID:America/New_York
BEGIN:DAYLIGHT
TZOFFSETFROM:-0500
TZOFFSETTO:-0400
TZNAME:EDT
DTSTART:20250309T070000
END:DAYLIGHT
BEGIN:STANDARD
TZOFFSETFROM:-0400
TZOFFSETTO:-0500
TZNAME:EST
DTSTART:20251102T060000
END:STANDARD
BEGIN:DAYLIGHT
TZOFFSETFROM:-0500
TZOFFSETTO:-0400
TZNAME:EDT
DTSTART:20260308T070000
END:DAYLIGHT
BEGIN:STANDARD
TZOFFSETFROM:-0400
TZOFFSETTO:-0500
TZNAME:EST
DTSTART:20261101T060000
END:STANDARD
BEGIN:DAYLIGHT
TZOFFSETFROM:-0500
TZOFFSETTO:-0400
TZNAME:EDT
DTSTART:20270314T070000
END:DAYLIGHT
BEGIN:STANDARD
TZOFFSETFROM:-0400
TZOFFSETTO:-0500
TZNAME:EST
DTSTART:20271107T060000
END:STANDARD
END:VTIMEZONE
BEGIN:VEVENT
DTSTART;TZID=America/New_York:20260426T100000
DTEND;TZID=America/New_York:20260426T113000
DTSTAMP:20260423T200147
CREATED:20260403T142947Z
LAST-MODIFIED:20260422T150719Z
UID:23495-1777197600-1777203000@bmbceaston.com
SUMMARY:Sunday Service
DESCRIPTION:Sunday Service
URL:https://bmbceaston.com/event/23495/
END:VEVENT
BEGIN:VEVENT
DTSTART;TZID=America/New_York:20260426T100000
DTEND;TZID=America/New_York:20260426T231500
DTSTAMP:20260423T200147
CREATED:20260403T143706Z
LAST-MODIFIED:20260422T150747Z
UID:23500-1777197600-1777245300@bmbceaston.com
SUMMARY:Children's Church
DESCRIPTION:Children’s Church
URL:https://bmbceaston.com/event/childrens-church/
ATTACH;FMTTYPE=image/png:https://bmbceaston.com/wp-content/uploads/2025/04/leading-and-learning-from-children-25-.png
END:VEVENT
BEGIN:VEVENT
DTSTART;TZID=America/New_York:20260426T180000
DTEND;TZID=America/New_York:20260426T190000
DTSTAMP:20260423T200147
CREATED:20250208T010117Z
LAST-MODIFIED:20260415T150622Z
UID:22686-1777226400-1777230000@bmbceaston.com
SUMMARY:Men's Evening Bible Study
DESCRIPTION:“Living in the REAL” – Biblical realities for life \n\n\n\n\n\nRoom 211
URL:https://bmbceaston.com/event/mens-evening-bible-study/
ATTACH;FMTTYPE=image/jpeg:https://bmbceaston.com/wp-content/uploads/2021/01/01_yfc_images_33_world_outreach.jpg
END:VEVENT
BEGIN:VEVENT
DTSTART;TZID=America/New_York:20260426T180000
DTEND;TZID=America/New_York:20260426T193000
DTSTAMP:20260423T200147
CREATED:20221027T111910Z
LAST-MODIFIED:20260415T150647Z
UID:20477-1777226400-1777231800@bmbceaston.com
SUMMARY:Youth Ministry
DESCRIPTION:
URL:https://bmbceaston.com/event/inferno-student-ministry/
ATTACH;FMTTYPE=image/jpeg:https://bmbceaston.com/wp-content/uploads/2021/07/children-SS.jpg
END:VEVENT
BEGIN:VEVENT
DTSTART;TZID=America/New_York:20260428T104500
DTEND;TZID=America/New_York:20260428T120000
DTSTAMP:20260423T200147
CREATED:20221013T182636Z
LAST-MODIFIED:20260415T150521Z
UID:20425-1777373100-1777377600@bmbceaston.com
SUMMARY:Ladies AM Bible Study.
DESCRIPTION: Every Tuesday
URL:https://bmbceaston.com/event/ladies-am-bible-study-2-2/
ATTACH;FMTTYPE=image/jpeg:https://bmbceaston.com/wp-content/uploads/2020/09/ladies-bible-study-morning.jpg
END:VEVENT
BEGIN:VEVENT
DTSTART;TZID=America/New_York:20260506T083000
DTEND;TZID=America/New_York:20260506T100000
DTSTAMP:20260423T200147
CREATED:20220519T095123Z
LAST-MODIFIED:20260415T150438Z
UID:19059-1778056200-1778061600@bmbceaston.com
SUMMARY:Men's Breakfast
DESCRIPTION:
URL:https://bmbceaston.com/event/mens-breakfast-may-25-2022-830-am/
ATTACH;FMTTYPE=image/jpeg:https://bmbceaston.com/wp-content/uploads/2021/09/Clipart-of-Mens-breakfast.jpeg
END:VEVENT
BEGIN:VEVENT
DTSTART;TZID=America/New_York:20260506T100000
DTEND;TZID=America/New_York:20260506T113000
DTSTAMP:20260423T200147
CREATED:20221101T175009Z
LAST-MODIFIED:20260415T150459Z
UID:20491-1778061600-1778067000@bmbceaston.com
SUMMARY:Men's Bible Study
DESCRIPTION:
URL:https://bmbceaston.com/event/mens-bible-study/
ATTACH;FMTTYPE=image/jpeg:https://bmbceaston.com/wp-content/uploads/2020/04/38186-prayerhands-Bible-prayer-thinkstock.1200w.tn_.jpg
END:VEVENT
BEGIN:VEVENT
DTSTART;TZID=America/New_York:20260514T120000
DTEND;TZID=America/New_York:20260514T140000
DTSTAMP:20260423T200147
CREATED:20220921T180446Z
LAST-MODIFIED:20260415T150809Z
UID:20324-1778760000-1778767200@bmbceaston.com
SUMMARY:JOY Club
DESCRIPTION: 
URL:https://bmbceaston.com/event/joy-club-october-13th/
ATTACH;FMTTYPE=image/png:https://bmbceaston.com/wp-content/uploads/2020/03/Just-Older-Youth_.png
END:VEVENT
BEGIN:VEVENT
DTSTART;TZID=America/New_York:20260516T090000
DTEND;TZID=America/New_York:20260516T120000
DTSTAMP:20260423T200147
CREATED:20260320T141457Z
LAST-MODIFIED:20260407T160534Z
UID:23473-1778922000-1778932800@bmbceaston.com
SUMMARY:God's Love Our Freedom  Sylane Mack M.S.
DESCRIPTION:Have YOU or someone you know been a victim of abuse? \n\n\n\nHave YOU needed to know the power and freedom of God’s love and Forgiveness?  \n\n\n\nSylane Mack M.S.\, founder of Transformed by Grace – a Bible based counseling and conference speaking ministry – will share how she was healed through the power of God’s love. Once in the grips of horrendous abuse\, Sylane tells how God’s love gave her strength that helped set her free. \n\n\n\nFree admission (donations accepted)  \n\n\n\nFor more information contact Kathie Sullivan at krsullivan47@yahoo.com \n\n\n\n** To register for this event please go to the register tab at the top of the website **
URL:https://bmbceaston.com/event/23473/
LOCATION:Bethel Memorial Baptist Church\, 715 Chestnut Lane\, Easton\, PA\, 18045\, United States
ATTACH;FMTTYPE=image/png:https://bmbceaston.com/wp-content/uploads/2026/03/image-from-ladies-seminar-26.png
END:VEVENT
BEGIN:VEVENT
DTSTART;TZID=America/New_York:20260605T190000
DTEND;TZID=America/New_York:20260605T230000
DTSTAMP:20260423T200147
CREATED:20221101T201508Z
LAST-MODIFIED:20251021T151301Z
UID:20495-1780686000-1780700400@bmbceaston.com
SUMMARY:Faith Night at the Iron Pigs Game
DESCRIPTION:
URL:https://bmbceaston.com/event/faith-night-at-the-iron-pigs-game/
ATTACH;FMTTYPE=image/jpeg:https://bmbceaston.com/wp-content/uploads/2022/11/iron-pigs-image.jpg
END:VEVENT
BEGIN:VEVENT
DTSTART;TZID=America/New_York:20260826T183000
DTEND;TZID=America/New_York:20260826T200000
DTSTAMP:20260423T200147
CREATED:20230905T093210Z
LAST-MODIFIED:20260422T150624Z
UID:21379-1787769000-1787774400@bmbceaston.com
SUMMARY:Divorce Care
DESCRIPTION:Weekly thru November 18th\, 2026
URL:https://bmbceaston.com/event/divorce-care/
ATTACH;FMTTYPE=image/png:https://bmbceaston.com/wp-content/uploads/2023/09/dc_color.png
END:VEVENT
END:VCALENDAR