BEGIN:VCALENDAR
VERSION:2.0
PRODID:-//Bethel Memorial Baptist - ECPv6.15.20//NONSGML v1.0//EN
CALSCALE:GREGORIAN
METHOD:PUBLISH
X-ORIGINAL-URL:https://bmbceaston.com
X-WR-CALDESC:Events for Bethel Memorial Baptist
REFRESH-INTERVAL;VALUE=DURATION:PT1H
X-Robots-Tag:noindex
X-PUBLISHED-TTL:PT1H
BEGIN:VTIMEZONE
TZID:America/New_York
BEGIN:DAYLIGHT
TZOFFSETFROM:-0500
TZOFFSETTO:-0400
TZNAME:EDT
DTSTART:20230312T070000
END:DAYLIGHT
BEGIN:STANDARD
TZOFFSETFROM:-0400
TZOFFSETTO:-0500
TZNAME:EST
DTSTART:20231105T060000
END:STANDARD
BEGIN:DAYLIGHT
TZOFFSETFROM:-0500
TZOFFSETTO:-0400
TZNAME:EDT
DTSTART:20240310T070000
END:DAYLIGHT
BEGIN:STANDARD
TZOFFSETFROM:-0400
TZOFFSETTO:-0500
TZNAME:EST
DTSTART:20241103T060000
END:STANDARD
BEGIN:DAYLIGHT
TZOFFSETFROM:-0500
TZOFFSETTO:-0400
TZNAME:EDT
DTSTART:20250309T070000
END:DAYLIGHT
BEGIN:STANDARD
TZOFFSETFROM:-0400
TZOFFSETTO:-0500
TZNAME:EST
DTSTART:20251102T060000
END:STANDARD
BEGIN:DAYLIGHT
TZOFFSETFROM:-0500
TZOFFSETTO:-0400
TZNAME:EDT
DTSTART:20260308T070000
END:DAYLIGHT
BEGIN:STANDARD
TZOFFSETFROM:-0400
TZOFFSETTO:-0500
TZNAME:EST
DTSTART:20261101T060000
END:STANDARD
BEGIN:DAYLIGHT
TZOFFSETFROM:-0500
TZOFFSETTO:-0400
TZNAME:EDT
DTSTART:20270314T070000
END:DAYLIGHT
BEGIN:STANDARD
TZOFFSETFROM:-0400
TZOFFSETTO:-0500
TZNAME:EST
DTSTART:20271107T060000
END:STANDARD
END:VTIMEZONE
BEGIN:VEVENT
DTSTART;TZID=America/New_York:20240503T080000
DTEND;TZID=America/New_York:20240503T170000
DTSTAMP:20260425T102617
CREATED:20230128T115604Z
LAST-MODIFIED:20240109T173306Z
UID:20757-1714723200-1714755600@bmbceaston.com
SUMMARY:LifeLine Screening
DESCRIPTION:Call Church for details.  Appointment needed
URL:https://bmbceaston.com/event/lifeline-screening/
END:VEVENT
BEGIN:VEVENT
DTSTART;TZID=America/New_York:20240920T190000
DTEND;TZID=America/New_York:20240920T203000
DTSTAMP:20260425T102617
CREATED:20240811T230527Z
LAST-MODIFIED:20240917T184211Z
UID:22255-1726858800-1726864200@bmbceaston.com
SUMMARY:GOOD News Club
DESCRIPTION:
URL:https://bmbceaston.com/event/good-news-club/
ATTACH;FMTTYPE=image/jpeg:https://bmbceaston.com/wp-content/uploads/2024/08/Purple-Modern-Breaking-News-Free-Instagram-Post.jpg
END:VEVENT
BEGIN:VEVENT
DTSTART;TZID=America/New_York:20241020T113000
DTEND;TZID=America/New_York:20241020T160000
DTSTAMP:20260425T102617
CREATED:20240930T193714Z
LAST-MODIFIED:20240930T193836Z
UID:22367-1729423800-1729440000@bmbceaston.com
SUMMARY:Corn Maze & Lunch
DESCRIPTION:
URL:https://bmbceaston.com/event/corn-maze-lunch/
ATTACH;FMTTYPE=image/jpeg:https://bmbceaston.com/wp-content/uploads/2021/10/Corn-maze.jpg
END:VEVENT
BEGIN:VEVENT
DTSTART;TZID=America/New_York:20241026T180000
DTEND;TZID=America/New_York:20241026T190000
DTSTAMP:20260425T102617
CREATED:20240909T092238Z
LAST-MODIFIED:20240910T094612Z
UID:22309-1729965600-1729969200@bmbceaston.com
SUMMARY:Trunk n' Treat
DESCRIPTION:
URL:https://bmbceaston.com/event/trunk-n-treat/
ATTACH;FMTTYPE=image/jpeg:https://bmbceaston.com/wp-content/uploads/2021/10/christian-pumpkin-trunk-or-treat-grand-decorating-kit-35-pc-13851819.jpg
END:VEVENT
BEGIN:VEVENT
DTSTART;TZID=America/New_York:20241202T190000
DTEND;TZID=America/New_York:20241202T210000
DTSTAMP:20260425T102617
CREATED:20220913T224732Z
LAST-MODIFIED:20241102T014558Z
UID:20278-1733166000-1733173200@bmbceaston.com
SUMMARY:Tree Trimming Party
DESCRIPTION: 
URL:https://bmbceaston.com/event/tree-trimming-party/
ATTACH;FMTTYPE=image/gif:https://bmbceaston.com/wp-content/uploads/2019/12/christmas-tree-117x150-1.gif
END:VEVENT
BEGIN:VEVENT
DTSTART;TZID=America/New_York:20241221T180000
DTEND;TZID=America/New_York:20241221T203000
DTSTAMP:20260425T102617
CREATED:20241210T145751Z
LAST-MODIFIED:20241210T145828Z
UID:22541-1734804000-1734813000@bmbceaston.com
SUMMARY:Grace Notes Gospel Band Christmas Concert
DESCRIPTION:
URL:https://bmbceaston.com/event/grace-notes-gospel-band-christmas-concert/
ATTACH;FMTTYPE=image/jpeg:https://bmbceaston.com/wp-content/uploads/2024/12/grace-notes-christmas.jpg
END:VEVENT
BEGIN:VEVENT
DTSTART;TZID=America/New_York:20250303T180000
DTEND;TZID=America/New_York:20250303T203000
DTSTAMP:20260425T102617
CREATED:20221108T234309Z
LAST-MODIFIED:20250215T194245Z
UID:20530-1741024800-1741033800@bmbceaston.com
SUMMARY:Ladies Fellowship/Game Night
DESCRIPTION:At DATS Stockertown
URL:https://bmbceaston.com/event/ladies-game-night/
ATTACH;FMTTYPE=image/jpeg:https://bmbceaston.com/wp-content/uploads/2024/03/Ladies-FellowshipGame-night.jpg
END:VEVENT
BEGIN:VEVENT
DTSTART;TZID=America/New_York:20250401T090000
DTEND;TZID=America/New_York:20250401T120000
DTSTAMP:20260425T102617
CREATED:20230316T153359Z
LAST-MODIFIED:20250716T015842Z
UID:20827-1743498000-1743508800@bmbceaston.com
SUMMARY:Vacation Bible School
DESCRIPTION:
URL:https://bmbceaston.com/event/vacation-bible-school/
END:VEVENT
BEGIN:VEVENT
DTSTART;TZID=America/New_York:20250510T080000
DTEND;TZID=America/New_York:20250510T110000
DTSTAMP:20260425T102617
CREATED:20250226T000050Z
LAST-MODIFIED:20250226T000559Z
UID:22755-1746864000-1746874800@bmbceaston.com
SUMMARY:Clothing Give-a-way
DESCRIPTION:
URL:https://bmbceaston.com/event/clothing-give-a-way/
ATTACH;FMTTYPE=image/png:https://bmbceaston.com/wp-content/uploads/2025/02/Clothing-Give-away2.png
END:VEVENT
BEGIN:VEVENT
DTSTART;TZID=America/New_York:20250610T100000
DTEND;TZID=America/New_York:20250610T150000
DTSTAMP:20260425T102617
CREATED:20230216T094428Z
LAST-MODIFIED:20250410T222005Z
UID:20825-1749549600-1749567600@bmbceaston.com
SUMMARY:New Life Island
DESCRIPTION:
URL:https://bmbceaston.com/event/new-life-island/
ATTACH;FMTTYPE=image/jpeg:https://bmbceaston.com/wp-content/uploads/2021/06/newlife7.jpg
END:VEVENT
BEGIN:VEVENT
DTSTART;TZID=America/New_York:20250610T183000
DTEND;TZID=America/New_York:20250610T200000
DTSTAMP:20260425T102617
CREATED:20250316T204456Z
LAST-MODIFIED:20250605T152233Z
UID:22833-1749580200-1749585600@bmbceaston.com
SUMMARY:Ladies PM Bible Study
DESCRIPTION:
URL:https://bmbceaston.com/event/ladies-pm-bible-study/
ATTACH;FMTTYPE=image/jpeg:https://bmbceaston.com/wp-content/uploads/2025/03/20250321_163218-scaled.jpg
END:VEVENT
BEGIN:VEVENT
DTSTART;TZID=America/New_York:20250728T090000
DTEND;TZID=America/New_York:20250801T120000
DTSTAMP:20260425T102617
CREATED:20230620T145024Z
LAST-MODIFIED:20250716T015807Z
UID:21196-1753693200-1754049600@bmbceaston.com
SUMMARY:CEF Summer Camp
DESCRIPTION:
URL:https://bmbceaston.com/event/cef-summer-camp/
ATTACH;FMTTYPE=image/png:https://bmbceaston.com/wp-content/uploads/2020/03/CEF-Summer-Camp.png
END:VEVENT
BEGIN:VEVENT
DTSTART;TZID=America/New_York:20250810T103000
DTEND;TZID=America/New_York:20250810T130000
DTSTAMP:20260425T102617
CREATED:20240801T190759Z
LAST-MODIFIED:20250723T010519Z
UID:22230-1754821800-1754830800@bmbceaston.com
SUMMARY:Touch a Truck
DESCRIPTION:
URL:https://bmbceaston.com/event/touch-a-truck/
END:VEVENT
BEGIN:VEVENT
DTSTART;TZID=America/New_York:20250814T180000
DTEND;TZID=America/New_York:20250817T210000
DTSTAMP:20260425T102617
CREATED:20230216T094952Z
LAST-MODIFIED:20250218T093933Z
UID:20829-1755194400-1755464400@bmbceaston.com
SUMMARY:Palmer Community Weekend
DESCRIPTION:
URL:https://bmbceaston.com/event/palmer-community-weekend/
ATTACH;FMTTYPE=image/jpeg:https://bmbceaston.com/wp-content/uploads/2021/08/tent2-scaled.jpg
END:VEVENT
BEGIN:VEVENT
DTSTART;TZID=America/New_York:20251114T183000
DTEND;TZID=America/New_York:20251116T193000
DTSTAMP:20260425T102617
CREATED:20240902T225836Z
LAST-MODIFIED:20241203T110042Z
UID:22291-1763145000-1763321400@bmbceaston.com
SUMMARY:Missions Conference
DESCRIPTION:Nov.14th\, 15th\, 16\, 2025
URL:https://bmbceaston.com/event/missions-conference/
ATTACH;FMTTYPE=image/jpeg:https://bmbceaston.com/wp-content/uploads/2020/03/missions-scaled.jpeg
END:VEVENT
BEGIN:VEVENT
DTSTART;TZID=America/New_York:20251123T113000
DTEND;TZID=America/New_York:20251123T130000
DTSTAMP:20260425T102617
CREATED:20220913T224500Z
LAST-MODIFIED:20251010T180948Z
UID:20275-1763897400-1763902800@bmbceaston.com
SUMMARY:Operation Christmas Child Packing party
DESCRIPTION: 
URL:https://bmbceaston.com/event/operation-christmas-child-packing-party/
ATTACH;FMTTYPE=image/jpeg:https://bmbceaston.com/wp-content/uploads/2021/11/20211121_111523_resized.jpg
END:VEVENT
BEGIN:VEVENT
DTSTART;TZID=America/New_York:20251126T183000
DTEND;TZID=America/New_York:20251126T193000
DTSTAMP:20260425T102617
CREATED:20220913T224247Z
LAST-MODIFIED:20250227T101102Z
UID:20272-1764181800-1764185400@bmbceaston.com
SUMMARY:Thanksgiving Eve Service
DESCRIPTION: 
URL:https://bmbceaston.com/event/thanksgiving-eve-service/
END:VEVENT
BEGIN:VEVENT
DTSTART;TZID=America/New_York:20251206T170000
DTEND;TZID=America/New_York:20251206T210000
DTSTAMP:20260425T102617
CREATED:20220927T082301Z
LAST-MODIFIED:20251111T162630Z
UID:20346-1765040400-1765054800@bmbceaston.com
SUMMARY:Salt Shakers Christmas Party
DESCRIPTION: 
URL:https://bmbceaston.com/event/salt-shakers-oct-15-2022/
ATTACH;FMTTYPE=image/png:https://bmbceaston.com/wp-content/uploads/2022/09/Beige-and-Teal-Triangles-Get-Together-Invitation.png
END:VEVENT
BEGIN:VEVENT
DTSTART;TZID=America/New_York:20251213T150000
DTEND;TZID=America/New_York:20251213T170000
DTSTAMP:20260425T102617
CREATED:20250319T090541Z
LAST-MODIFIED:20250319T090609Z
UID:22843-1765638000-1765645200@bmbceaston.com
SUMMARY:Easton Municipal Band Christmas Concert
DESCRIPTION:
URL:https://bmbceaston.com/event/easton-municipal-band-christmas-concert/
ATTACH;FMTTYPE=image/jpeg:https://bmbceaston.com/wp-content/uploads/2025/03/f23f76_6c7178eb4bae47d888b5e2f8f66e8889mv2-scaled.jpg
END:VEVENT
BEGIN:VEVENT
DTSTART;TZID=America/New_York:20251224T190000
DTEND;TZID=America/New_York:20251224T203000
DTSTAMP:20260425T102617
CREATED:20221130T173528Z
LAST-MODIFIED:20251214T015938Z
UID:20607-1766602800-1766608200@bmbceaston.com
SUMMARY:Christmas Candlelight Service
DESCRIPTION:
URL:https://bmbceaston.com/event/christmas-candlelight-service/
END:VEVENT
BEGIN:VEVENT
DTSTART;TZID=America/New_York:20260222T090000
DTEND;TZID=America/New_York:20260222T100000
DTSTAMP:20260425T102617
CREATED:20240801T191417Z
LAST-MODIFIED:20260213T172114Z
UID:22235-1771750800-1771754400@bmbceaston.com
SUMMARY:Church Membership Class
DESCRIPTION:
URL:https://bmbceaston.com/event/church-membership-class/
ATTACH;FMTTYPE=image/jpeg:https://bmbceaston.com/wp-content/uploads/2024/08/Blue-White-Modern-Photo-Membership-ID-Card.jpg
END:VEVENT
BEGIN:VEVENT
DTSTART;TZID=America/New_York:20260324T073000
DTEND;TZID=America/New_York:20260324T180000
DTSTAMP:20260425T102617
CREATED:20250808T234223Z
LAST-MODIFIED:20250808T234343Z
UID:23223-1774337400-1774375200@bmbceaston.com
SUMMARY:Joshua @ Sight & Sound
DESCRIPTION:
URL:https://bmbceaston.com/event/joshua-sight-sound/
ATTACH;FMTTYPE=image/jpeg:https://bmbceaston.com/wp-content/uploads/2025/08/2026_Joshua_KeyArt_ParentSite_Hero_FinalRev.jpg
END:VEVENT
BEGIN:VEVENT
DTSTART;TZID=America/New_York:20260405T070000
DTEND;TZID=America/New_York:20260405T080000
DTSTAMP:20260425T102617
CREATED:20231225T143112Z
LAST-MODIFIED:20260403T145643Z
UID:21622-1775372400-1775376000@bmbceaston.com
SUMMARY:Easter Sonrise Service @ Fairview park (If Raining will be in the Sanctuary)
DESCRIPTION:
URL:https://bmbceaston.com/event/easter-sonrise-service-fairview-park-weather-permitting/
ATTACH;FMTTYPE=image/jpeg:https://bmbceaston.com/wp-content/uploads/2023/07/Jesus-plan-23.jpg
END:VEVENT
BEGIN:VEVENT
DTSTART;TZID=America/New_York:20260405T080000
DTEND;TZID=America/New_York:20260405T093000
DTSTAMP:20260425T102617
CREATED:20220217T130007Z
LAST-MODIFIED:20260403T144115Z
UID:19296-1775376000-1775381400@bmbceaston.com
SUMMARY:SONRISE Breakfast 8:00 am at the Church
DESCRIPTION:Breakfast \n\n\n\n\n 
URL:https://bmbceaston.com/event/easter-breakfast-at-the-church/
END:VEVENT
BEGIN:VEVENT
DTSTART;TZID=America/New_York:20260405T100000
DTEND;TZID=America/New_York:20260405T111500
DTSTAMP:20260425T102617
CREATED:20260403T144642Z
LAST-MODIFIED:20260403T145723Z
UID:23503-1775383200-1775387700@bmbceaston.com
SUMMARY:Easter Sunday Service April 5th\, 2026
DESCRIPTION:
URL:https://bmbceaston.com/event/easter-sunday-service-april-5th-2026/
END:VEVENT
BEGIN:VEVENT
DTSTART;TZID=America/New_York:20260407T133000
DTEND;TZID=America/New_York:20260407T153000
DTSTAMP:20260425T102617
CREATED:20221027T110939Z
LAST-MODIFIED:20260403T145005Z
UID:20471-1775568600-1775575800@bmbceaston.com
SUMMARY:Grief Share AM 1:30pm to 3:30pm & PM 6:00pm to 8:00pm
DESCRIPTION:Weekly on Tuesday
URL:https://bmbceaston.com/event/grief-share-pm/
ATTACH;FMTTYPE=image/jpeg:https://bmbceaston.com/wp-content/uploads/2022/09/grief-share.jpg
END:VEVENT
BEGIN:VEVENT
DTSTART;TZID=America/New_York:20260422T190000
DTEND;TZID=America/New_York:20260422T200000
DTSTAMP:20260425T102617
CREATED:20240902T225512Z
LAST-MODIFIED:20260422T150804Z
UID:22289-1776884400-1776888000@bmbceaston.com
SUMMARY:Prayer Meeting
DESCRIPTION:Every Wednesday night on Zoom.  Contact church for link
URL:https://bmbceaston.com/event/prayer-meeting/
ATTACH;FMTTYPE=image/jpeg:https://bmbceaston.com/wp-content/uploads/2021/12/waiting-on-the-Lord.jpg
END:VEVENT
BEGIN:VEVENT
DTSTART;TZID=America/New_York:20260426T100000
DTEND;TZID=America/New_York:20260426T113000
DTSTAMP:20260425T102617
CREATED:20260403T142947Z
LAST-MODIFIED:20260422T150719Z
UID:23495-1777197600-1777203000@bmbceaston.com
SUMMARY:Sunday Service
DESCRIPTION:Sunday Service
URL:https://bmbceaston.com/event/23495/
END:VEVENT
BEGIN:VEVENT
DTSTART;TZID=America/New_York:20260426T100000
DTEND;TZID=America/New_York:20260426T231500
DTSTAMP:20260425T102617
CREATED:20260403T143706Z
LAST-MODIFIED:20260422T150747Z
UID:23500-1777197600-1777245300@bmbceaston.com
SUMMARY:Children's Church
DESCRIPTION:Children’s Church
URL:https://bmbceaston.com/event/childrens-church/
ATTACH;FMTTYPE=image/png:https://bmbceaston.com/wp-content/uploads/2025/04/leading-and-learning-from-children-25-.png
END:VEVENT
BEGIN:VEVENT
DTSTART;TZID=America/New_York:20260426T180000
DTEND;TZID=America/New_York:20260426T190000
DTSTAMP:20260425T102617
CREATED:20250208T010117Z
LAST-MODIFIED:20260415T150622Z
UID:22686-1777226400-1777230000@bmbceaston.com
SUMMARY:Men's Evening Bible Study
DESCRIPTION:“Living in the REAL” – Biblical realities for life \n\n\n\n\n\nRoom 211
URL:https://bmbceaston.com/event/mens-evening-bible-study/
ATTACH;FMTTYPE=image/jpeg:https://bmbceaston.com/wp-content/uploads/2021/01/01_yfc_images_33_world_outreach.jpg
END:VEVENT
END:VCALENDAR