BEGIN:VCALENDAR
VERSION:2.0
PRODID:-//Bethel Memorial Baptist - ECPv6.15.20//NONSGML v1.0//EN
CALSCALE:GREGORIAN
METHOD:PUBLISH
X-WR-CALNAME:Bethel Memorial Baptist
X-ORIGINAL-URL:https://bmbceaston.com
X-WR-CALDESC:Events for Bethel Memorial Baptist
REFRESH-INTERVAL;VALUE=DURATION:PT1H
X-Robots-Tag:noindex
X-PUBLISHED-TTL:PT1H
BEGIN:VTIMEZONE
TZID:America/New_York
BEGIN:DAYLIGHT
TZOFFSETFROM:-0500
TZOFFSETTO:-0400
TZNAME:EDT
DTSTART:20230312T070000
END:DAYLIGHT
BEGIN:STANDARD
TZOFFSETFROM:-0400
TZOFFSETTO:-0500
TZNAME:EST
DTSTART:20231105T060000
END:STANDARD
BEGIN:DAYLIGHT
TZOFFSETFROM:-0500
TZOFFSETTO:-0400
TZNAME:EDT
DTSTART:20240310T070000
END:DAYLIGHT
BEGIN:STANDARD
TZOFFSETFROM:-0400
TZOFFSETTO:-0500
TZNAME:EST
DTSTART:20241103T060000
END:STANDARD
BEGIN:DAYLIGHT
TZOFFSETFROM:-0500
TZOFFSETTO:-0400
TZNAME:EDT
DTSTART:20250309T070000
END:DAYLIGHT
BEGIN:STANDARD
TZOFFSETFROM:-0400
TZOFFSETTO:-0500
TZNAME:EST
DTSTART:20251102T060000
END:STANDARD
BEGIN:DAYLIGHT
TZOFFSETFROM:-0500
TZOFFSETTO:-0400
TZNAME:EDT
DTSTART:20260308T070000
END:DAYLIGHT
BEGIN:STANDARD
TZOFFSETFROM:-0400
TZOFFSETTO:-0500
TZNAME:EST
DTSTART:20261101T060000
END:STANDARD
END:VTIMEZONE
BEGIN:VEVENT
DTSTART;TZID=America/New_York:20240920T190000
DTEND;TZID=America/New_York:20240920T203000
DTSTAMP:20260424T091913
CREATED:20240811T230527Z
LAST-MODIFIED:20240917T184211Z
UID:22255-1726858800-1726864200@bmbceaston.com
SUMMARY:GOOD News Club
DESCRIPTION:
URL:https://bmbceaston.com/event/good-news-club/
ATTACH;FMTTYPE=image/jpeg:https://bmbceaston.com/wp-content/uploads/2024/08/Purple-Modern-Breaking-News-Free-Instagram-Post.jpg
END:VEVENT
BEGIN:VEVENT
DTSTART;TZID=America/New_York:20240503T080000
DTEND;TZID=America/New_York:20240503T170000
DTSTAMP:20260424T091913
CREATED:20230128T115604Z
LAST-MODIFIED:20240109T173306Z
UID:20757-1714723200-1714755600@bmbceaston.com
SUMMARY:LifeLine Screening
DESCRIPTION:Call Church for details.  Appointment needed
URL:https://bmbceaston.com/event/lifeline-screening/
END:VEVENT
BEGIN:VEVENT
DTSTART;TZID=America/New_York:20250406T113000
DTEND;TZID=America/New_York:20250406T120000
DTSTAMP:20260424T091913
CREATED:20220217T163008Z
LAST-MODIFIED:20250414T085623Z
UID:19335-1743939000-1743940800@bmbceaston.com
SUMMARY:Easter Egg Hunt April 20th
DESCRIPTION: 
URL:https://bmbceaston.com/event/easter-egg-hunt/
LOCATION:Bethel Memorial Baptist Church\, 715 Chestnut Lane\, Easton\, PA\, 18045\, United States
END:VEVENT
END:VCALENDAR